BEGIN:VCALENDAR
VERSION:2.0
PRODID:-//Friends of Sawtooth Avalanche Center - ECPv6.7.1//NONSGML v1.0//EN
CALSCALE:GREGORIAN
METHOD:PUBLISH
X-WR-CALNAME:Friends of Sawtooth Avalanche Center
X-ORIGINAL-URL:https://friends.sawtoothavalanche.com
X-WR-CALDESC:Events for Friends of Sawtooth Avalanche Center
REFRESH-INTERVAL;VALUE=DURATION:PT1H
X-Robots-Tag:noindex
X-PUBLISHED-TTL:PT1H
BEGIN:VTIMEZONE
TZID:America/Boise
BEGIN:DAYLIGHT
TZOFFSETFROM:-0700
TZOFFSETTO:-0600
TZNAME:MDT
DTSTART:20240310T090000
END:DAYLIGHT
BEGIN:STANDARD
TZOFFSETFROM:-0600
TZOFFSETTO:-0700
TZNAME:MST
DTSTART:20241103T080000
END:STANDARD
END:VTIMEZONE
BEGIN:VEVENT
DTSTART;TZID=America/Boise:20240124T180000
DTEND;TZID=America/Boise:20240124T200000
DTSTAMP:20260420T062829
CREATED:20231223T193110Z
LAST-MODIFIED:20231223T193630Z
UID:1935-1706119200-1706126400@friends.sawtoothavalanche.com
SUMMARY:Introduction to Avalanches Presentation- Twin Falls
DESCRIPTION:Join the Friends of the Sawtooth Avalanche Center for a 2-hour presentation based on the Know Before You Go platform\, introducing basic concepts about snow\, avalanches\, and traveling safely in and near avalanche terrain. Learn from the Friends of SAC instructor team of snow experts\, mountain guides\, and experienced avalanche educators. We invite everyone to join if you’re learning about avalanches for the first time or are a seasoned backcountry user ready for a yearly refresher. \nFor more information on this\, and to see other events we host\, please see our Facebook page. 
URL:https://friends.sawtoothavalanche.com/event/introduction-to-avalanches-presentation-twin-falls/
LOCATION:College of Southern Idaho\, 315 Falls Ave\, Twin Falls\, 83301\, United States
CATEGORIES:Class,Event
ATTACH;FMTTYPE=image/jpeg:https://friends.sawtoothavalanche.com/wp-content/uploads/2023/12/Twin.jpg
END:VEVENT
END:VCALENDAR